BEGIN:VCALENDAR
VERSION:2.0
PRODID:-//NorthInvest - ECPv6.0.10//NONSGML v1.0//EN
CALSCALE:GREGORIAN
METHOD:PUBLISH
X-ORIGINAL-URL:https://northinvest.co.uk
X-WR-CALDESC:Events for NorthInvest
REFRESH-INTERVAL;VALUE=DURATION:PT1H
X-Robots-Tag:noindex
X-PUBLISHED-TTL:PT1H
BEGIN:VTIMEZONE
TZID:UTC
BEGIN:STANDARD
TZOFFSETFROM:+0000
TZOFFSETTO:+0000
TZNAME:UTC
DTSTART:20230101T000000
END:STANDARD
END:VTIMEZONE
BEGIN:VEVENT
DTSTART;TZID=UTC:20230703T083000
DTEND;TZID=UTC:20230703T110000
DTSTAMP:20260422T130210
CREATED:20230614T152814Z
LAST-MODIFIED:20230614T152814Z
UID:4689-1688373000-1688382000@northinvest.co.uk
SUMMARY:Yorkshire Sustainability Week
DESCRIPTION:In collaboration with Yorkshire Sustainability Week we are holding a ‘Pitch it Green’ in-person event. Six investor-ready\, sustainable start-ups will pitch to a panel of investor judges and a live audience\, at The Everyman Cinema in The Trinity Shopping Centre\, Leeds. \nThe aim is to ignite ideas and support entrepreneurs to access funding\, mentorship and networks that can help to build their businesses! \nThe event is suitable for entrepreneurs who are interested in understanding what is required when asking for investment\, and any investors who are interested in building a greener and sustainable ecosystem. \nClick on the link to purchase tickets. If you are part of our network email us for the 20% discount code. \n  \nSee you there!
URL:https://northinvest.co.uk/event/yorkshire-sustainability-week/
LOCATION:The Everyman\, Trinity\, Leeds\, Level 4\, Trinity\, Albion St\,\, Leeds\, LS1 5AT\, United Kingdom
END:VEVENT
END:VCALENDAR