BEGIN:VCALENDAR
VERSION:2.0
PRODID:-//NorthInvest - ECPv6.0.10//NONSGML v1.0//EN
CALSCALE:GREGORIAN
METHOD:PUBLISH
X-WR-CALNAME:NorthInvest
X-ORIGINAL-URL:https://northinvest.co.uk
X-WR-CALDESC:Events for NorthInvest
REFRESH-INTERVAL;VALUE=DURATION:PT1H
X-Robots-Tag:noindex
X-PUBLISHED-TTL:PT1H
BEGIN:VTIMEZONE
TZID:UTC
BEGIN:STANDARD
TZOFFSETFROM:+0000
TZOFFSETTO:+0000
TZNAME:UTC
DTSTART:20230101T000000
END:STANDARD
END:VTIMEZONE
BEGIN:VEVENT
DTSTART;TZID=UTC:20230711T100000
DTEND;TZID=UTC:20230711T113000
DTSTAMP:20260422T130700
CREATED:20230523T131752Z
LAST-MODIFIED:20230614T154521Z
UID:4621-1689069600-1689075000@northinvest.co.uk
SUMMARY:NorthInvest Pitch Event with the Innovation SuperNetwork - July
DESCRIPTION:NorthInvest and the Innovation SuperNetwork have teamed up to welcome Angels to our latest virtual pitch event. \nThis event will involve up to six investor-ready tech and digital start-ups from across the North of England pitching their investment-ready ideas. \nThere will also be opportunities for investors to ask questions and give honest and constructive feedback. \n_________________________________ \nEvent Structure: \n10:00 – Welcome and Deal Update \n10:15 – Pitches and Investor Q&A \n11:30 – Event end \nSign up – We can’t wait to see you there!
URL:https://northinvest.co.uk/event/northinvest-pitch-event-with-the-innovation-supernetwork-july/
LOCATION:Online – Zoom\, United Kingdom
END:VEVENT
END:VCALENDAR