BEGIN:VCALENDAR
VERSION:2.0
PRODID:-//NorthInvest - ECPv6.0.10//NONSGML v1.0//EN
CALSCALE:GREGORIAN
METHOD:PUBLISH
X-ORIGINAL-URL:https://northinvest.co.uk
X-WR-CALDESC:Events for NorthInvest
REFRESH-INTERVAL;VALUE=DURATION:PT1H
X-Robots-Tag:noindex
X-PUBLISHED-TTL:PT1H
BEGIN:VTIMEZONE
TZID:UTC
BEGIN:STANDARD
TZOFFSETFROM:+0000
TZOFFSETTO:+0000
TZNAME:UTC
DTSTART:20220101T000000
END:STANDARD
END:VTIMEZONE
BEGIN:VEVENT
DTSTART;TZID=UTC:20220210T130000
DTEND;TZID=UTC:20220210T143000
DTSTAMP:20260423T151610
CREATED:20220125T133426Z
LAST-MODIFIED:20220125T133426Z
UID:2871-1644498000-1644503400@northinvest.co.uk
SUMMARY:Flight Club Investor Series 101: An introduction to tax efficient investing
DESCRIPTION:NorthInvest\, UKBAA and the Newcastle Angel Hub welcome you to this event to learn about tax efficient investing.\n\n\nWith the end of the tax year just around the corner\, the Flight Club series continues with An Introduction to Tax Efficient Investing on Thursday 10th February\, 1pm – 2:30pm.  Join this webinar to learn what tax benefits are out there for investors to utilise\, what the EIS/SEIS governmental schemes entail and how they apply to you.   Featuring insights from leading accountancy firm Azets\, and wealth management experts Brewin Dolphin\, this free webinar is not to be missed. \nThe Newcastle Angel Hub is delivered by the Innovation SuperNetwork and is part-funded by ERDF. The Flight Club Series is also supported by the UK Business Angels Association. \n \nAgenda: \n1:00pm – Welcome and introduction – Jordan Dargue\, NorthInvest & Innovation SuperNetwork \n1.05pm – An Introduction to Tax Efficient Investing –  \n1.20pm – 2.00pm – Panel Discussion\, The Importance of Tax Efficient Investing\, with Simon Palmer (Azets)\, Steven Keppie and Sam Gibson (Brewin Dolphin) \n2:00pm – Q&A  \nAn opportunity for the audience to ask the specialist advisors those burning questions to help them understand how to make the most of their investment portfolio through Tax Efficient Investing) with Simon Palmer (Azets)\, Steven Keppie and Sam Gibson (Brewin Dolphin) \n2.30pm – Close
URL:https://northinvest.co.uk/event/flight-club-investor-series-101-an-introduction-to-tax-efficient-investing/
CATEGORIES:Public Events
ATTACH;FMTTYPE=image/png:https://northinvest.co.uk/wp-content/uploads/2022/01/2871_image.png
END:VEVENT
END:VCALENDAR