BEGIN:VCALENDAR
VERSION:2.0
PRODID:-//NorthInvest - ECPv6.0.10//NONSGML v1.0//EN
CALSCALE:GREGORIAN
METHOD:PUBLISH
X-WR-CALNAME:NorthInvest
X-ORIGINAL-URL:https://northinvest.co.uk
X-WR-CALDESC:Events for NorthInvest
REFRESH-INTERVAL;VALUE=DURATION:PT1H
X-Robots-Tag:noindex
X-PUBLISHED-TTL:PT1H
BEGIN:VTIMEZONE
TZID:UTC
BEGIN:STANDARD
TZOFFSETFROM:+0000
TZOFFSETTO:+0000
TZNAME:UTC
DTSTART:20220101T000000
END:STANDARD
END:VTIMEZONE
BEGIN:VEVENT
DTSTART;TZID=UTC:20220921T163000
DTEND;TZID=UTC:20220921T203000
DTSTAMP:20260423T042950
CREATED:20220810T141932Z
LAST-MODIFIED:20220810T141932Z
UID:3758-1663777800-1663792200@northinvest.co.uk
SUMMARY:Sustainable North
DESCRIPTION:Launch event for Sustainable North: a new initiative focussing on promoting the start-up &  growth of sustainable Northern tech businesses.\n\n\nOn 21st September 2022\, NorthInvest and Paceline are hosting a special event to launch Sustainable North\, a new initiative focussing on promoting the start-up and growth of sustainable tech businesses across the North of England. \n \nOver the next 5 years\, Sustainable North will support the creation of 60 sustainable tech businesses across the North of England.  The founders of Sustainable North – NorthInvest and Paceline – aim to spotlight some fantastic Northern sustainable tech businesses\, inspire others and seek to harness the power of the North to get behind the opportunity to make the North the place to start and grow a sustainable tech business. \n \nSince its inception\, NorthInvest has been determined to support the growth of Northern-based early stage tech and digital start-ups by growing a diverse community of investors\, sector specialists and fellow entrepreneurs to offer advice\, insights and business support alongside investment.  \n \nPaceline helps tech scaleups to tell their stories and tech startups to build their brands. They help individuals and companies to develop connections with key influencers from the region’s business and civic communities.  \n \nAgenda to follow…
URL:https://northinvest.co.uk/event/sustainable-north/
LOCATION:BJSS\, 1 Whitehall Quay\, Leeds\, LS1 4HR\, Leeds\, LS1 4HR\, GB
CATEGORIES:Public Events
END:VEVENT
END:VCALENDAR