BEGIN:VCALENDAR
VERSION:2.0
PRODID:-//NorthInvest - ECPv6.0.10//NONSGML v1.0//EN
CALSCALE:GREGORIAN
METHOD:PUBLISH
X-WR-CALNAME:NorthInvest
X-ORIGINAL-URL:https://northinvest.co.uk
X-WR-CALDESC:Events for NorthInvest
REFRESH-INTERVAL;VALUE=DURATION:PT1H
X-Robots-Tag:noindex
X-PUBLISHED-TTL:PT1H
BEGIN:VTIMEZONE
TZID:UTC
BEGIN:STANDARD
TZOFFSETFROM:+0000
TZOFFSETTO:+0000
TZNAME:UTC
DTSTART:20220101T000000
END:STANDARD
END:VTIMEZONE
BEGIN:VEVENT
DTSTART;TZID=UTC:20220630T100000
DTEND;TZID=UTC:20220630T153000
DTSTAMP:20260423T091802
CREATED:20220607T095144Z
LAST-MODIFIED:20220607T095144Z
UID:3343-1656583200-1656603000@northinvest.co.uk
SUMMARY:Women Angels of the North Conference
DESCRIPTION:Join us for the Women Angels of the North Conference brought to you by Fund Her North\, UKBAA\, Innovate UK and the Innovation SuperNetwork!\n\n\nDid you know the proportion of female angel investors remains between 15-18%? \nWe want to change this. \nBusiness angel investors provide over £1.5 billion investment annually to UK start-ups and early stage businesses. According to the UK Business Angels Association (UKBAA)\, over 60% of scale-ups have received angel investment to support their early growth.  \nHowever\, The Rose Review into Female Entrepreneurship has identified that there is still a market bias against female entrepreneurs who face considerable challenges\, with access to finance being the number one barrier. The UKBAA found that a key part of the solution is growing the number of angel investors supported by data which shows female investors make between 30-50% of their investment in female founders.  \nThe FREE to attend Women Angels of the North Conference delivered by Fund Her North\, Innovate UK\, UKBAA and the Innovation SuperNetwork aims to unlock the power of women as angel investors and amplify the national Women Backing Women campaign.  \nJoin leading women in the investment landscape to explore how angel investing works and the impact of having more women investors in the North. This event seeks to break down the barriers of angel investing by dispelling myths and highlighting the benefits of this asset class.  \nYou will hear from leading UK private and angel investors\, leading economists\, investment analysts\, fund managers and policy makers.  As an attendee you will gain insight on future trends\, join the discussion on how we can all drive diversity across the investment landscape\, as well as meet other investors and like-minded people.  In addition you will hear directly from female entrepreneurs that have been supported by The Women Angels of the North syndicate\, on the need for more women angel investors and improving the gender balance in the early stage ecosystem in the UK. \nThis event will provide the perfect setting for hearing from experienced women angel investors\, investment and wealth experts on how to navigate the world of angel investing and how you can become a part of the success of early stage business growth.  \n\n\nAbout Fund Her North: \nFund Her North is a Northern-based\, volunteer collective of over 28 women (in VC’s\, funding organisations and angel groups)\, with a combined investment power of over £650 million. Each of the members of the Fund Her North collective has already made a lasting effect on female entrepreneurs in the North\, with a combined investment track record of over £160 million invested in female-led\, start-up businesses. \nFund Her North exists to give northern\, female entrepreneurs equal access to funding to help them successfully scale their businesses. This is through providing connections\, education\, and by holding their hands through the funding raising process. Fund Her North supports women founders through every stage of their growth journey\, through start up\, to scale up and exit. As a first of its kind in the region\, Fund Her North has built a network of over 200 members and a 30-strong Women Angels of the North syndicate to support female founders operating across the innovation and creative sectors in the North with access to investment. \nwww.fundhernorth.com
URL:https://northinvest.co.uk/event/women-angels-of-the-north-conference/
LOCATION:DoubleTree by Hilton Harrogate Majestic Hotel & Spa\, Ripon Road\, Harrogate\, HG1 2HU\, Harrogate\, HG1 2HU\, GB
CATEGORIES:Public Events
ATTACH;FMTTYPE=image/png:https://northinvest.co.uk/wp-content/uploads/2022/06/3343_image.png
END:VEVENT
END:VCALENDAR