BEGIN:VCALENDAR
VERSION:2.0
PRODID:-//NorthInvest - ECPv6.0.10//NONSGML v1.0//EN
CALSCALE:GREGORIAN
METHOD:PUBLISH
X-WR-CALNAME:NorthInvest
X-ORIGINAL-URL:https://northinvest.co.uk
X-WR-CALDESC:Events for NorthInvest
REFRESH-INTERVAL;VALUE=DURATION:PT1H
X-Robots-Tag:noindex
X-PUBLISHED-TTL:PT1H
BEGIN:VTIMEZONE
TZID:UTC
BEGIN:STANDARD
TZOFFSETFROM:+0000
TZOFFSETTO:+0000
TZNAME:UTC
DTSTART:20210101T000000
END:STANDARD
END:VTIMEZONE
BEGIN:VEVENT
DTSTART;TZID=UTC:20210309T100000
DTEND;TZID=UTC:20210309T120000
DTSTAMP:20260422T114027
CREATED:20210210T143237Z
LAST-MODIFIED:20210210T143333Z
UID:1810-1615284000-1615291200@northinvest.co.uk
SUMMARY:Garbutt + Elliott Pitch Event in partnership with NorthInvest
DESCRIPTION:Garbutt + Elliott with NorthInvest welcomes investors and partners to discover the latest investment opportunities at this live pitch event\n\n\nGarbutt + Elliott would like to invite a select group of clients to attend this private virtual pitch event to discover exciting companies pitching for equity investment. \nThis virtual Pitch Event is hosted in partnership with investment non-profit\, NorthInvest\, who regularly host Pitch Events for their Angel Investor community. This event will involve investor-ready startups pitching their ideas\, with the opportunity for potential investors to ask questions about their pitch. \nMore details about the companies will be released prior to the event\, but they will sit within the digital and technology sectors. \n*Risk Disclosure: \nGarbutt + Elliott is not endorsing or recommending investment in any of the businesses. Investing involves risks\, including loss of capital\, illiquidity\, lack of dividends and dilution\, and should be done only as part of a diversified portfolio. Investments should only be made by investors who understand these risks and/or with the guidance of a qualified wealth management professional. Capital at Risk.
URL:https://northinvest.co.uk/event/garbutt-elliott-pitch-event-in-partnership-with-northinvest/
CATEGORIES:Private Investor Events
ATTACH;FMTTYPE=image/png:https://northinvest.co.uk/wp-content/uploads/2021/02/1810_image.png
END:VEVENT
BEGIN:VEVENT
DTSTART;TZID=UTC:20210225T173000
DTEND;TZID=UTC:20210225T183000
DTSTAMP:20260422T114027
CREATED:20210210T142712Z
LAST-MODIFIED:20210210T143001Z
UID:1805-1614274200-1614277800@northinvest.co.uk
SUMMARY:NorthInvest Investor Drinks and Awards Evening
DESCRIPTION:A very special evening where we celebrate with all those who have supported us in 2020.\n\n\nNorthInvest would like you to join our investor drinks and awards evening where we want to celebrate with all of our investor community\, as well as handing out some awards. \nWe’ll also be inviting our main strategic partners to celebrate our most successful year to date. \nThis informal event will be a great chance to unwind and meet with the NorthInvest community over a relaxed drink or two\, sharing stories.
URL:https://northinvest.co.uk/event/northinvest-investor-drinks-and-awards-evening/
CATEGORIES:Private Investor Events
ATTACH;FMTTYPE=image/png:https://northinvest.co.uk/wp-content/uploads/2021/02/1805_image.png
END:VEVENT
BEGIN:VEVENT
DTSTART;TZID=UTC:20210223T100000
DTEND;TZID=UTC:20210223T113000
DTSTAMP:20260422T114027
CREATED:20210210T133224Z
LAST-MODIFIED:20210210T134353Z
UID:1773-1614074400-1614079800@northinvest.co.uk
SUMMARY:NorthInvest Pitch Event with the Innovation SuperNetwork
DESCRIPTION:NorthInvest welcomes angel investors and partners to discover the latest deal opportunities and tech start-ups at this virtual pitch event.\n\n\nNorthInvest and the Innovation SuperNetwork have teamed up to welcome Angels to our latest virtual pitch event. \nThis event will involve up to seven investor-ready tech and digital start-ups from across the North of England pitching their investment-ready ideas. \nThere will also be opportunity for investors to ask questions and give honest and constructive feedback. \nEvent Structure: \n10:00 – Welcome and Deal Update \n10:15 – Pitches and Investor Q&A \n11:30 – Event end \nPlease note: Details of the start-ups attending will be circulated via email prior to the event. \nWe hope to see you soon! \n\n\nAbout NorthInvest\nNorthInvest is an investment non-profit and angel network based in Leeds and operating across the North of England. We facilitate equity investment and funding into early stage tech and digital start-ups based in the North through free investment readiness coaching and by providing curated deal opportunities to our member investors. To date\, we have facilitated over £8m in equity rounds investment in over 20 Northern-based start-ups and delivered over 640 coaching sessions at no cost to start-ups. \n\nAbout Innovation SuperNetwork\nInnovation SuperNetwork is the network for innovation support in the North East of England. It includes the Catalysing Innovation in North East Clusters project\, which is receiving up to £1.24m of funding from the England European Regional Development Fund as part of the European Structural and Investment Funds Growth Programme 2014-2020. \nPlease note: If you are not already a member of the NorthInvest or Innovation SuperNetwork angel groups\, please select ‘Prospective Investor’ ticket type when registering. \n\n\nDisclaimers:\nRisk Disclosure:\nInvesting involves risks\, including loss of capital\, illiquidity\, lack of dividends and dilution\, and should be done only as part of a diversified portfolio. Investments should only be made by investors who understand these risks. Capital at Risk. \nPersonal Data:\nThis event is delivered in partnership with the Innovation SuperNetwork as part of the Regional Angel Investment Accelerator programme\, part-funded by ERDF. Data will be shared with the Innovation SuperNetwork and its funders as part of this programme. For more information please see their privacy policy – https://supernetwork.org.uk/privacy-policy/
URL:https://northinvest.co.uk/event/northinvest-pitch-event-with-the-innovation-supernetwork/
CATEGORIES:Private Investor Events
ATTACH;FMTTYPE=image/jpeg:https://northinvest.co.uk/wp-content/uploads/2021/02/1773_image.jpg
END:VEVENT
END:VCALENDAR