BEGIN:VCALENDAR
VERSION:2.0
PRODID:-//NorthInvest - ECPv6.0.10//NONSGML v1.0//EN
CALSCALE:GREGORIAN
METHOD:PUBLISH
X-WR-CALNAME:NorthInvest
X-ORIGINAL-URL:https://northinvest.co.uk
X-WR-CALDESC:Events for NorthInvest
REFRESH-INTERVAL;VALUE=DURATION:PT1H
X-Robots-Tag:noindex
X-PUBLISHED-TTL:PT1H
BEGIN:VTIMEZONE
TZID:UTC
BEGIN:STANDARD
TZOFFSETFROM:+0000
TZOFFSETTO:+0000
TZNAME:UTC
DTSTART:20230101T000000
END:STANDARD
END:VTIMEZONE
BEGIN:VEVENT
DTSTART;TZID=UTC:20230301T140000
DTEND;TZID=UTC:20230301T170000
DTSTAMP:20260422T055654
CREATED:20230210T163524Z
LAST-MODIFIED:20230210T163524Z
UID:4273-1677679200-1677690000@northinvest.co.uk
SUMMARY:Northern Angel Summit - Leeds
DESCRIPTION:A conference delivered by NorthInvest and the UKBAA designed to inspire and connect angel investors across the North of England.\n\n\nAccording to recent research by Beauhurst and Praetura\, Northern founders are more concerned with their access to regional funding than any other region\, which suggests there is a requirement for both public and private sector organisations in plugging the finance gap in the North of England.  \n \nAs a result\, NorthInvest will be hosting 3 large-scale conferences this year to inspire more people to take up angel investing\, as well as upskilling the current crop of angel investors across the Northern Powerhouse. \n \nOn the 1st March\, NorthInvest will be kicking off this series in Leeds\, to discuss how investors and regional stakeholders of the North can come together to create the perfect launchpad for tech businesses.   We’ll hear from a number of high profile speakers from the tech and investment sectors. \n \n\n\nAbout NorthInvest \nSince its inception\, NorthInvest has been determined to support the growth of Northern-based early stage tech and digital start-ups by growing a diverse community of investors\, sector specialists and fellow entrepreneurs to offer advice\, insights and business support alongside investment.
URL:https://northinvest.co.uk/event/northern-angel-summit-leeds/
LOCATION:Nexus – University of Leeds\, Discovery Way\, Woodhouse\, LS2 3AA\, Woodhouse\, LS2 3AA\, GB
CATEGORIES:Public Events
ATTACH;FMTTYPE=image/png:https://northinvest.co.uk/wp-content/uploads/2023/02/4273_image.png
END:VEVENT
BEGIN:VEVENT
DTSTART;TZID=UTC:20230317T100000
DTEND;TZID=UTC:20230317T143000
DTSTAMP:20260422T055654
CREATED:20230222T113052Z
LAST-MODIFIED:20230222T113052Z
UID:4306-1679047200-1679063400@northinvest.co.uk
SUMMARY:WAOTN Education Hub - Launch Event (Cohort 2)
DESCRIPTION:Women Angels of the North invites you to the launch event for our Women Angels Investor Education Programme (Cohort 2)!\n\n\nAs part of the network’s mission to tackle the UK funding gap for female-led UK businesses\, Women Angels of the North have launched a Women Angels Education Hub in partnership with the UK Business Angels Association (UKBAA) as part of the national Women Backing Women campaign.  \nThe Women Angels Education Hub offers a full free 12-hour Women Angels Investor Education Programme\, which consists of workshops\, presentations\, interactive sessions and meeting angel investors who are actively investing here in the North. The first 12 hour programme was delivered at the back end of 2022 and received great feedback from participants in giving women the tools and support to learn more about the investing strategy and also learn how accessible angel investing can be for all!  \nOur launch event will be informative and interactive giving you the chance to learn about the fundamentals of angel investing as well as a dummy workshop session where you will have the opportunity to assess and analyse 3 dummy opportunities as an investor and make syndicate decisions. You will also have the opportunity to hear  from some of the Northern regions most active women angel investors.  \nT﻿his event will be followed by a wider programme of activity including virtual bitesize workshops taking place every 2 weeks where we will be joined by industry experts to break down how to complete proper due diligence on a deal.  \nW﻿e hope to see you there!
URL:https://northinvest.co.uk/event/waotn-education-hub-launch-event-cohort-2/
LOCATION:Platform\, New Station Street\, Leeds\, LS1 4JB\, Leeds\, LS1 4JB\, GB
ATTACH;FMTTYPE=image/png:https://northinvest.co.uk/wp-content/uploads/2023/02/4306_image.png
END:VEVENT
BEGIN:VEVENT
DTSTART;TZID=UTC:20230321T150000
DTEND;TZID=UTC:20230321T173000
DTSTAMP:20260422T055654
CREATED:20230309T094624Z
LAST-MODIFIED:20230315T135046Z
UID:4354-1679410800-1679419800@northinvest.co.uk
SUMMARY:NorthInvest Pitch Event with the South Yorkshire Angels Hub
DESCRIPTION:NorthInvest and the South Yorkshire Angel Hub invite you to our latest in-person pitch event hosted in Sheffield’s Hallam i-Lab. \nThe event will feature pitches from up to six investor-ready tech and digital start-ups from the North of England\, alongside ample opportunity for investors to ask questions and give honest and constructive feedback. \nTo book your tickets click here!
URL:https://northinvest.co.uk/event/northinvest-pitch-event-with-the-south-yorkshire-angels-hub/
LOCATION:Hallam i-Lab\, Sheffield\, Aspect Court (Floor 6)\, Sheffield\, S1 2BG\, United Kingdom
ATTACH;FMTTYPE=image/jpeg:https://northinvest.co.uk/wp-content/uploads/2023/03/NorthInvest-x-SYAH-Pitch-Event-213.jpg
END:VEVENT
BEGIN:VEVENT
DTSTART;TZID=UTC:20230328T090000
DTEND;TZID=UTC:20230328T103000
DTSTAMP:20260422T055654
CREATED:20230222T100024Z
LAST-MODIFIED:20230324T082934Z
UID:4314-1679994000-1679999400@northinvest.co.uk
SUMMARY:NorthInvest Pitch Event with the Innovation SuperNetwork
DESCRIPTION:NorthInvest welcomes angel investors and partners to discover the latest deal opportunities and tech start-ups at this in-person pitch event .\n\n\nNorthInvest and the Innovation SuperNetwork have teamed up to welcome Angels to our latest virtual pitch event. \nThis event will involve up to six investor-ready tech and digital start-ups from across the North of England pitching their investment-ready ideas. \nThere will also be opportunity for investors to ask questions and give honest and constructive feedback. \n_________________________________ \nEvent Structure: \n10:00 – Welcome and Deal Update \n10:15 – Pitches and Investor Q&A \n11:30 – Event end \nPlease note: Details of the start-ups attending will be circulated via email prior to the event. \nWe hope to see you soon!
URL:https://northinvest.co.uk/event/northinvest-pitch-event-with-the-innovation-supernetwork-3/
LOCATION:No.1 Circle Square\, 3 Symphony Park\, Manchester\, M1 7FS\, Manchester\, M1 7FS\, GB
ATTACH;FMTTYPE=image/png:https://northinvest.co.uk/wp-content/uploads/2023/02/4314_image.png
END:VEVENT
END:VCALENDAR