BEGIN:VCALENDAR
VERSION:2.0
PRODID:-//NorthInvest - ECPv6.0.10//NONSGML v1.0//EN
CALSCALE:GREGORIAN
METHOD:PUBLISH
X-ORIGINAL-URL:https://northinvest.co.uk
X-WR-CALDESC:Events for NorthInvest
REFRESH-INTERVAL;VALUE=DURATION:PT1H
X-Robots-Tag:noindex
X-PUBLISHED-TTL:PT1H
BEGIN:VTIMEZONE
TZID:UTC
BEGIN:STANDARD
TZOFFSETFROM:+0000
TZOFFSETTO:+0000
TZNAME:UTC
DTSTART:20230101T000000
END:STANDARD
END:VTIMEZONE
BEGIN:VEVENT
DTSTART;TZID=UTC:20230607T130000
DTEND;TZID=UTC:20230607T143000
DTSTAMP:20260422T095652
CREATED:20230427T120040Z
LAST-MODIFIED:20230427T135823Z
UID:4552-1686142800-1686148200@northinvest.co.uk
SUMMARY:Flight Club - The Upside\, the Risks and Diversifying your Investment
DESCRIPTION:Following the success of Angel Investor workshops hosted last year NorthInvest is excited to launch Flight Club\, an educational resource with the purpose of helping prospective business angels to ‘spread their wings and take flight’\, becoming a more confident and educated angel investor. \nDelivered jointly with the Newcastle Angel Hub and UKBAA\, a revised programme of events will take place throughout 2023 providing a meeting place for new investors to learn from and meet experienced investors\, thus helping us to onboard new angels from across the UK. \nThe upsides\, the risks and diversifying your investment will take place on Wednesday 7th June\, 1pm-2:30pm. \nIn this event we will discuss the positive aspects of Angel Investing\, the risks that can be associated and ways in which you can diversify your investments.
URL:https://northinvest.co.uk/event/flight-club-the-upside-the-risks-and-diversifying-your-investment/
CATEGORIES:Public Events
END:VEVENT
BEGIN:VEVENT
DTSTART;TZID=UTC:20230615T140000
DTEND;TZID=UTC:20230615T180000
DTSTAMP:20260422T095652
CREATED:20230427T075652Z
LAST-MODIFIED:20230427T094334Z
UID:4540-1686837600-1686852000@northinvest.co.uk
SUMMARY:Northern Angel Summit - Manchester
DESCRIPTION:According to recent research by Beauhurst and Praetura\, Northern founders are more concerned with their access to regional funding than any other region\, which suggests there is a requirement for both public and private sector organisations in plugging the finance gap in the North of England.  \nThere is thus a clear need for more angel investing capacity to be established across the regions and for angel groups and networks to collaborate further and create a connected ecosystem of support. Successfully achieving these objectives will come about faster by means of a collaborative effort\, rather than a disjointed\, fractured approach. \nAs a result\, NorthInvest\, the UKBAA and the British Business Bank will be hosting 3 large-scale conferences this year in Leeds\, Manchester and Newcastle. These events are being held in order to discuss how we can co-create a connected eco-system of angel investors and angel groups across the regions to support more SME’s to leverage funding\, inspire more people to take up angel investing as well as upskill the current crop of angel investors across the Northern Powerhouse.  \nOn the 15th June\, NorthInvest will be continuing this series in Manchester\, to discuss how investors and stakeholders of the North can come together to unlock investment power in the region. We’ll hear from a number of high-profile speakers from the tech and investment sectors who will guide and inspire. \nDon’t miss out on this free event – sign up now! \nAgenda TBA
URL:https://northinvest.co.uk/event/northern-angel-summit-manchester/
LOCATION:Circle Square Oxford Road Manchester
ATTACH;FMTTYPE=image/jpeg:https://northinvest.co.uk/wp-content/uploads/2023/04/Manchester-Northern-Angel-Summit-Event-Image-Presentation-169.jpg
END:VEVENT
END:VCALENDAR